Workbook

Sheet Introduction

Sheet Report

Sheet  Tables & Charts
A21: =YRBS!A4 -> Youth Current Drinkers
A22: YRBS | B22: Our Area, % | C22: =YRBS!R3 -> State Average 2013
C23: =YRBS!R4 -> 32.7
A24: =YRBS!F3 -> 2009 | B24: =YRBS!F4 -> 25 | C24: =YRBS!R4 -> 32.7
A25: =YRBS!G3 -> 2011 | B25: =YRBS!G4 -> 46 | C25: =YRBS!R4 -> 32.7
A26: =YRBS!H3 -> 2013 | B26: =YRBS!H4 -> 32 | C26: =YRBS!R4 -> 32.7
A27: =YRBS!I3 -> 0 | B27: =YRBS!I4 -> 0 | C27: =YRBS!R4 -> 32.7
A28: =YRBS!J3 -> 0 | B28: =YRBS!J4 -> 0 | C28: =YRBS!R4 -> 32.7
A29: =YRBS!K3 -> 0 | B29: =YRBS!K4 -> 0 | C29: =YRBS!R4 -> 32.7
A30: =YRBS!L3 -> 0 | B30: =YRBS!L4 -> 0 | C30: =YRBS!R4 -> 32.7
A31: =YRBS!M3 -> 0 | B31: =YRBS!M4 -> 0 | C31: =YRBS!R4 -> 32.7
A32: =YRBS!N3 -> 0 | B32: =YRBS!N4 -> 0 | C32: =YRBS!R4 -> 32.7
A33: =YRBS!O3 -> 2015 | B33: =YRBS!O4 -> 31 | C33: =YRBS!R4 -> 32.7
C34: =YRBS!R4 -> 32.7
A42: =YRBS!A6 -> Youth Who Drank Before Age 13
A43: YRBS | B43: Our Area, % | C43: =YRBS!R3 -> State Average 2013
C44: =YRBS!R6 -> 14.6
A45: =YRBS!F3 -> 2009 | B45: =YRBS!F6 -> 20 | C45: =YRBS!R6 -> 14.6
A46: =YRBS!G3 -> 2011 | B46: =YRBS!G6 -> 18 | C46: =YRBS!R6 -> 14.6
A47: =YRBS!H3 -> 2013 | B47: =YRBS!H6 -> 17 | C47: =YRBS!R6 -> 14.6
A48: =YRBS!I3 -> 0 | B48: =YRBS!I6 -> 0 | C48: =YRBS!R6 -> 14.6
A49: =YRBS!J3 -> 0 | B49: =YRBS!J6 -> 0 | C49: =YRBS!R6 -> 14.6
A50: =YRBS!K3 -> 0 | B50: =YRBS!K6 -> 0 | C50: =YRBS!R6 -> 14.6
A51: =YRBS!L3 -> 0 | B51: =YRBS!L6 -> 0 | C51: =YRBS!R6 -> 14.6
A52: =YRBS!M3 -> 0 | B52: =YRBS!M6 -> 0 | C52: =YRBS!R6 -> 14.6
A53: =YRBS!N3 -> 0 | B53: =YRBS!N6 -> 0 | C53: =YRBS!R6 -> 14.6
A54: =YRBS!O3 -> 2015 | B54: =YRBS!O6 -> 15 | C54: =YRBS!R6 -> 14.6
C55: =YRBS!R6 -> 14.6
A60: =YRBS!A7 -> Youth Binge Drinkers
A61: YRBS | B61: Our Area, % | C61: =YRBS!R3 -> State Average 2013
C62: =YRBS!R7 -> 18.4
A63: =YRBS!F3 -> 2009 | B63: =YRBS!F7 -> 20 | C63: =YRBS!R7 -> 18.4
A64: =YRBS!G3 -> 2011 | B64: =YRBS!G7 -> 23 | C64: =YRBS!R7 -> 18.4
A65: =YRBS!H3 -> 2013 | B65: =YRBS!H7 -> 20 | C65: =YRBS!R7 -> 18.4
A66: =YRBS!I3 -> 0 | B66: =YRBS!I7 -> 0 | C66: =YRBS!R7 -> 18.4
A67: =YRBS!J3 -> 0 | B67: =YRBS!J7 -> 0 | C67: =YRBS!R7 -> 18.4
A68: =YRBS!K3 -> 0 | B68: =YRBS!K7 -> 0 | C68: =YRBS!R7 -> 18.4
A69: =YRBS!L3 -> 0 | B69: =YRBS!L7 -> 0 | C69: =YRBS!R7 -> 18.4
A70: =YRBS!M3 -> 0 | B70: =YRBS!M7 -> 0 | C70: =YRBS!R7 -> 18.4
A71: =YRBS!N3 -> 0 | B71: =YRBS!N7 -> 0 | C71: =YRBS!R7 -> 18.4
...

Sheet YRBS
A1: Youth Risk Behavior Survey
B3: Our objective | D3: by (date) | E3: Met obj? Check = Yes | F3: 2009 | G3: 2011 | H3: 2013 | O3: 2015 | P3: Trend | Q3: Local data (2013) to compare to state and national | R3: State Average 2013 | S3: US Average 2013
A4: Youth Current Drinkers | B4: Decrease to | C4: 30 | D4: by 12/31/18 | E4: =O4 -> 31 | F4: 25 | G4: 46 | H4: 32 | O4: 31 | Q4: 32 | R4: 32.7 | S4: 34.9
A5: Youth Who Ever Drank | B5: Decrease to | C5: 63 | D5: by 12/31/18 | E5: =O5 -> 63 | F5: 67 | G5: 65 | H5: 60 | O5: 63 | Q5: 60 | R5: 65.9 | S5: 66.2
A6: Youth Who Drank Before Age 13 | B6: Decrease to | C6: 15 | D6: by 12/31/18 | E6: =O6 -> 15 | F6: 20 | G6: 18 | H6: 17 | O6: 15 | Q6: 17 | R6: 14.6 | S6: 18.6
A7: Youth Binge Drinkers | B7: Decrease to | C7: 18 | D7: by 12/31/18 | E7: =O7 -> 21 | F7: 20 | G7: 23 | H7: 20 | O7: 21 | Q7: 20 | R7: 18.4 | S7: 20.8
A8: My parents would disapprove of me drinking | B8: Increase to | C8: 80 | D8: by 12/31/18 | E8: =O8 -> 75 | F8: 57 | G8: 66 | H8: 73 | O8: 75 | Q8: 73 | R8: na | S8: na
A9: Youth who get alcohol from social sources | B9: Decrease to | C9: 20 | D9: by 12/31/18 | E9: =O9 -> 22 | F9: 34 | G9: 35 | H9: 25 | O9: 22 | Q9: 25 | R9: na | S9: na
A10: Youth who get alcohol from retail sources | B10: Decrease to | C10: 5 | D10: by 12/31/18 | E10: =O10 -> 6 | F10: 5 | G10: 7 | H10: 5 | O10: 6 | Q10: 5 | R10: na | S10: na

Sheet Binge Drinkers BRFSS
A1: Behavioral Risk Factor Surveillance System (BRFSS)
B3: Our objective | D3: by (date) | E3: Met objective? Check=yes | F3: 2011-13 | N3: 2012-14 | O3: Trend | P3: State Av. (2012-14) | Q3: US Av. (2012-14)
A4: % Adult Binge Drinkers | B4: Decrease to | C4: 25 | D4: by 12/31/18 | E4: =N4 -> 34.5 | F4: 35.2 | N4: 34.5 | P4: 24.4 | Q4: =AVERAGE(16.8,16,17) -> 16.6

Sheet Arrests Epi Report
A1: Wisconsin Epidemiological Profile on Alcohol and Other Drug Use
A3: OWI and Liquor Law Arrests: Rate per 100,000 population
B4: 2005 | C4: 2006 | D4: 2007 | E4: 2008 | F4: 2009 | G4: 2010 | H4: 2011 | I4: 2012 | J4: 2013 | N4: 2014 | O4: Trend | P4: State Average 2014 | Q4: US Average 2014
A5: OWI Arrests | B5: 1181 | C5: 1001 | D5: 1171 | E5: 1028 | F5: 999 | G5: 765 | H5: 783 | I5: 751 | J5: 726 | N5: 604 | P5: 431 | Q5: 351
A6: Liquor Law Arrests | B6: 1131 | C6: 927 | D6: 745 | E6: 839 | F6: 601 | G6: 623 | H6: 591 | I6: 568 | J6: 344 | N6: 275 | P6: 300 | Q6: 101

Sheet Hospitalizations Epi Report
A1: Wisconsin Epidemiological Profile on Alcohol and Other Drug Use
A2: Estimated Rate of Alcohol-Related Hospitalizations: Rate per 100,000 population
B3: Our objective | D3: by (date) | E3: Met obj? Check = Yes | F3: '04-'05 | G3: '05-'06 | H3: '06-'07 | I3: '07-'08 | J3: '08-'09 | K3: '09-'10 | L3: '10-'11 | M3: '11-'12 | N3: '12-'13 | R3: '13-'14 | S3: Trend | T3: State Average '13-'14
A4: Alcohol-related Hospitalizations | B4: Decrease to | C4: 841 | D4: by 12/31/18 | E4: =R4 -> 832 | F4: 854 | G4: 886 | H4: 867 | I4: 891 | J4: 950 | K4: 944 | L4: 973 | M4: 1056 | N4: 828 | R4: 832 | T4: 807

Sheet Outlet Density
A1: Alcohol Outlet Density
A6: Municipality | B6: Population | G6: Licenses Issued | O6: People per license (A higher number = less dense concentration of outlets) | X6: Licenses per 500 population (higher = more dense)
B7: 2007 | C7: 2011 | D7: 2015 | E7: 2019 | F7: 2023 | G7: 2007-08 | H7: 2011-12 | I7: 2015-16 | J7: 2019-20 | K7: 2023-24 | L7: Class A (2015-16) | M7: Class B (2015-16) | N7: Comparing Class A to Class B (2015-16) | O7: 2007-08 | P7: 2011-12 | Q7: 2015-16 | R7: 2019-20 | S7: 2023-24 | T7: Trend | U7: Rank in state (2011-12) | V7: State Average 2013 | W7: US Average 2013 | X7: 2007-08 | Y7: 2011-12 | Z7: 2015-16 | AC7: State Average 2013 | AD7: US Average 2013
A8: Total: Adams County | B8: 21645 | C8: 20935 | D8: 20730 | G8: 95 | H8: 100 | I8: =SUM(I9:I65) -> 92 | L8: =SUM(L9:L66) -> 17 | M8: =SUM(M9:M66) -> 75 | O8: =B8/G8 -> 227.84211 | P8: =C8/H8 -> 209.35 | Q8: =D8/I8 -> 225.32609 | R8: =E8/J8 -> #DIV/0! | S8: =F8/K8 -> #DIV/0! | U8: 27 | V8: =5744000/16764 -> 342.63899 | W8: =316400000/644153 -> 491.18765 | X8: =(G8*500)/B8 -> 2.1945022 | Y8: =(H8*500)/C8 -> 2.3883449 | Z8: =(I8*500)/D8 -> 2.2190063 | AA8: =(J8*500)/E8 -> #DIV/0! | AB8: =(K8*500)/F8 -> #DIV/0! | AC8: =(16764*500)/5744000 -> 1.4592618 | AD8: =(644053*500)/316400000 -> 1.0177829
A9: Adams- City | B9: 1882 | C9: 1960 | D9: 1942 | G9: 10 | H9: 13 | I9: 15 | L9: 8 | M9: 7 | O9: =B9/G9 -> 188.2 | P9: =C9/H9 -> 150.76923 | Q9: =D9/I9 -> 129.46667 | R9: =E9/J9 -> #DIV/0! | S9: =F9/K9 -> #DIV/0! | U9: 448 | X9: =(G9*500)/B9 -> 2.6567481 | Y9: =(H9*500)/C9 -> 3.3163265 | Z9: =(I9*500)/D9 -> 3.8619979 | AA9: =(J9*500)/E9 -> #DIV/0! | AB9: =(K9*500)/F9 -> #DIV/0!
A10: Adams- Town | B10: 1314 | C10: 1344 | D10: 1364 | G10: 6 | H10: 6 | I10: 6 | L10: 0 | M10: 6 | O10: =B10/G10 -> 219 | P10: =C10/H10 -> 224 | Q10: =D10/I10 -> 227.33333 | R10: =E10/J10 -> #DIV/0! | S10: =F10/K10 -> #DIV/0! | U10: 694 | X10: =(G10*500)/B10 -> 2.283105 | Y10: =(H10*500)/C10 -> 2.2321429 | Z10: =(I10*500)/D10 -> 2.1994135 | AA10: =(J10*500)/E10 -> #DIV/0! | AB10: =(K10*500)/F10 -> #DIV/0!
A11: Big Flats- Town | B11: 1045 | C11: 1020 | D11: 1034 | G11: 3 | H11: 6 | I11: 3 | L11: 0 | M11: 3 | O11: =B11/G11 -> 348.33333 | P11: =C11/H11 -> 170 | Q11: =D11/I11 -> 344.66667 | R11: =E11/J11 -> #DIV/0! | S11: =F11/K11 -> #DIV/0! | U11: 516 | X11: =(G11*500)/B11 -> 1.4354067 | Y11: =(H11*500)/C11 -> 2.9411765 | Z11: =(I11*500)/D11 -> 1.450677 | AA11: =(J11*500)/E11 -> #DIV/0! | AB11: =(K11*500)/F11 -> #DIV/0!
A12: Dell Prairie- Town | B12: 1555 | C12: 1595 | D12: 1626 | G12: 9 | H12: 9 | I12: 9 | L12: 0 | M12: 9 | O12: =B12/G12 -> 172.77778 | P12: =C12/H12 -> 177.22222 | Q12: =D12/I12 -> 180.66667 | R12: =E12/J12 -> #DIV/0! | S12: =F12/K12 -> #DIV/0! | U12: 536 | X12: =(G12*500)/B12 -> 2.8938907 | Y12: =(H12*500)/C12 -> 2.8213166 | Z12: =(I12*500)/D12 -> 2.7675277 | AA12: =(J12*500)/E12 -> #DIV/0! | AB12: =(K12*500)/F12 -> #DIV/0!
A13: Easton- Town | B13: 1285 | C13: 1135 | D13: 1117 | G13: 3 | H13: 3 | I13: 2 | L13: 0 | M13: 2 | O13: =B13/G13 -> 428.33333 | P13: =C13/H13 -> 378.33333 | Q13: =D13/I13 -> 558.5 | R13: =E13/J13 -> #DIV/0! | S13: =F13/K13 -> #DIV/0! | U13: 1097 | X13: =(G13*500)/B13 -> 1.1673152 | Y13: =(H13*500)/C13 -> 1.3215859 | Z13: =(I13*500)/D13 -> 0.89525515 | AA13: =(J13*500)/E13 -> #DIV/0! | AB13: =(K13*500)/F13 -> #DIV/0!
A14: Friendship- Village | B14: 783 | C14: 698 | D14: 723 | G14: 7 | H14: 6 | I14: 6 | L14: 1 | M14: 5 | O14: =B14/G14 -> 111.85714 | P14: =C14/H14 -> 116.33333 | Q14: =D14/I14 -> 120.5 | R14: =E14/J14 -> #DIV/0! | S14: =F14/K14 -> #DIV/0! | U14: 297 | X14: =(G14*500)/B14 -> 4.4699872 | Y14: =(H14*500)/C14 -> 4.2979943 | Z14: =(I14*500)/D14 -> 4.1493776 | AA14: =(J14*500)/E14 -> #DIV/0! | AB14: =(K14*500)/F14 -> #DIV/0!
A15: Jackson- Town | B15: 991 | C15: 1003 | D15: 1006 | G15: 4 | H15: 4 | I15: 3 | L15: 0 | M15: 3 | O15: =B15/G15 -> 247.75 | P15: =C15/H15 -> 250.75 | Q15: =D15/I15 -> 335.33333 | R15: =E15/J15 -> #DIV/0! | S15: =F15/K15 -> #DIV/0! | U15: 751 | X15: =(G15*500)/B15 -> 2.0181635 | Y15: =(H15*500)/C15 -> 1.9940179 | Z15: =(I15*500)/D15 -> 1.4910537 | AA15: =(J15*500)/E15 -> #DIV/0! | AB15: =(K15*500)/F15 -> #DIV/0!
A16: Leola- Town | B16: 277 | C16: 308 | D16: 306 | G16: 2 | H16: 2 | I16: 1 | L16: 0 | M16: 1 | O16: =B16/G16 -> 138.5 | P16: =C16/H16 -> 154 | Q16: =D16/I16 -> 306 | R16: =E16/J16 -> #DIV/0! | S16: =F16/K16 -> #DIV/0! | U16: 464 | X16: =(G16*500)/B16 -> 3.6101083 | Y16: =(H16*500)/C16 -> 3.2467532 | Z16: =(I16*500)/D16 -> 1.6339869 | AA16: =(J16*500)/E16 -> #DIV/0! | AB16: =(K16*500)/F16 -> #DIV/0!
A17: Monroe- Town | B17: 472 | C17: 404 | D17: 404 | G17: 3 | H17: 3 | I17: 3 | L17: 1 | M17: 2 | O17: =B17/G17 -> 157.33333 | P17: =C17/H17 -> 134.66667 | Q17: =D17/I17 -> 134.66667 | R17: =E17/J17 -> #DIV/0! | S17: =F17/K17 -> #DIV/0! | U17: 365 | X17: =(G17*500)/B17 -> 3.1779661 | Y17: =(H17*500)/C17 -> 3.7128713 | Z17: =(I17*500)/D17 -> 3.7128713 | AA17: =(J17*500)/E17 -> #DIV/0! | AB17: =(K17*500)/F17 -> #DIV/0!
A18: New Chester- Town | B18: 2190 | C18: 2320 | D18: 2009 | G18: 4 | H18: 5 | I18: 5 | L18: 1 | M18: 4 | O18: =B18/G18 -> 547.5 | P18: =C18/H18 -> 464 | Q18: =D18/I18 -> 401.8 | R18: =E18/J18 -> #DIV/0! | S18: =F18/K18 -> #DIV/0! | U18: 1207 | X18: =(G18*500)/B18 -> 0.91324201 | Y18: =(H18*500)/C18 -> 1.0775862 | Z18: =(I18*500)/D18 -> 1.2444002 | AA18: =(J18*500)/E18 -> #DIV/0! | AB18: =(K18*500)/F18 -> #DIV/0!
A19: New Haven- Town | B19: 711 | C19: 658 | D19: 659 | G19: 4 | H19: 5 | I19: 5 | L19: 1 | M19: 4 | O19: =B19/G19 -> 177.75 | P19: =C19/H19 -> 131.6 | Q19: =D19/I19 -> 131.8 | R19: =E19/J19 -> #DIV/0! | S19: =F19/K19 -> #DIV/0! | U19: 349 | X19: =(G19*500)/B19 -> 2.8129395 | Y19: =(H19*500)/C19 -> 3.7993921 | Z19: =(I19*500)/D19 -> 3.7936267 | AA19: =(J19*500)/E19 -> #DIV/0! | AB19: =(K19*500)/F19 -> #DIV/0!
A20: Preston- Town | B20: 1487 | C20: 1391 | D20: 1398 | G20: 5 | H20: 4 | I20: 3 | L20: 1 | M20: 2 | O20: =B20/G20 -> 297.4 | P20: =C20/H20 -> 347.75 | Q20: =D20/I20 -> 466 | R20: =E20/J20 -> #DIV/0! | S20: =F20/K20 -> #DIV/0! | U20: 1040 | X20: =(G20*500)/B20 -> 1.6812374 | Y20: =(H20*500)/C20 -> 1.4378145 | Z20: =(I20*500)/D20 -> 1.0729614 | AA20: =(J20*500)/E20 -> #DIV/0! | AB20: =(K20*500)/F20 -> #DIV/0!
... A26: Wisconsin Dells- City* | B26: 26 | C26: 61 | D26: 60 | G26: 2 | H26: 3 | I26: 2 | L26: 0 | M26: 2 | O26: =B26/G26 -> 13 | P26: =C26/H26 -> 20.333333 | Q26: =D26/I26 -> 30 | R26: =E26/J26 -> #DIV/0! | S26: =F26/K26 -> #DIV/0! | U26: 6 | X26: =(G26*500)/B26 -> 38.461538 | Y26: =(H26*500)/C26 -> 24.590164 | Z26: =(I26*500)/D26 -> 16.666667 | AA26: =(J26*500)/E26 -> #DIV/0! | AB26: =(K26*500)/F26 -> #DIV/0!
O27: =B27/G27 -> #DIV/0! | P27: =C27/H27 -> #DIV/0! | Q27: =D27/I27 -> #DIV/0! | R27: =E27/J27 -> #DIV/0! | S27: =F27/K27 -> #DIV/0! | X27: =(G27*500)/B27 -> #DIV/0! | Y27: =(H27*500)/C27 -> #DIV/0! | Z27: =(I27*500)/D27 -> #DIV/0! | AA27: =(J27*500)/E27 -> #DIV/0! | AB27: =(K27*500)/F27 -> #DIV/0!
O28: =B28/G28 -> #DIV/0! | P28: =C28/H28 -> #DIV/0! | Q28: =D28/I28 -> #DIV/0! | R28: =E28/J28 -> #DIV/0! | S28: =F28/K28 -> #DIV/0! | X28: =(G28*500)/B28 -> #DIV/0! | Y28: =(H28*500)/C28 -> #DIV/0! | Z28: =(I28*500)/D28 -> #DIV/0! | AA28: =(J28*500)/E28 -> #DIV/0! | AB28: =(K28*500)/F28 -> #DIV/0!
O29: =B29/G29 -> #DIV/0! | P29: =C29/H29 -> #DIV/0! | Q29: =D29/I29 -> #DIV/0! | R29: =E29/J29 -> #DIV/0! | S29: =F29/K29 -> #DIV/0! | X29: =(G29*500)/B29 -> #DIV/0! | Y29: =(H29*500)/C29 -> #DIV/0! | Z29: =(I29*500)/D29 -> #DIV/0! | AA29: =(J29*500)/E29 -> #DIV/0! | AB29: =(K29*500)/F29 -> #DIV/0!
O30: =B30/G30 -> #DIV/0! | P30: =C30/H30 -> #DIV/0! | Q30: =D30/I30 -> #DIV/0! | R30: =E30/J30 -> #DIV/0! | S30: =F30/K30 -> #DIV/0! | X30: =(G30*500)/B30 -> #DIV/0! | Y30: =(H30*500)/C30 -> #DIV/0! | Z30: =(I30*500)/D30 -> #DIV/0! | AA30: =(J30*500)/E30 -> #DIV/0! | AB30: =(K30*500)/F30 -> #DIV/0!
O31: =B31/G31 -> #DIV/0! | P31: =C31/H31 -> #DIV/0! | Q31: =D31/I31 -> #DIV/0! | R31: =E31/J31 -> #DIV/0! | S31: =F31/K31 -> #DIV/0! | X31: =(G31*500)/B31 -> #DIV/0! | Y31: =(H31*500)/C31 -> #DIV/0! | Z31: =(I31*500)/D31 -> #DIV/0! | AA31: =(J31*500)/E31 -> #DIV/0! | AB31: =(K31*500)/F31 -> #DIV/0!
O32: =B32/G32 -> #DIV/0! | P32: =C32/H32 -> #DIV/0! | Q32: =D32/I32 -> #DIV/0! | R32: =E32/J32 -> #DIV/0! | S32: =F32/K32 -> #DIV/0! | X32: =(G32*500)/B32 -> #DIV/0! | Y32: =(H32*500)/C32 -> #DIV/0! | Z32: =(I32*500)/D32 -> #DIV/0! | AA32: =(J32*500)/E32 -> #DIV/0! | AB32: =(K32*500)/F32 -> #DIV/0!
O33: =B33/G33 -> #DIV/0! | P33: =C33/H33 -> #DIV/0! | Q33: =D33/I33 -> #DIV/0! | R33: =E33/J33 -> #DIV/0! | S33: =F33/K33 -> #DIV/0! | X33: =(G33*500)/B33 -> #DIV/0! | Y33: =(H33*500)/C33 -> #DIV/0! | Z33: =(I33*500)/D33 -> #DIV/0! | AA33: =(J33*500)/E33 -> #DIV/0! | AB33: =(K33*500)/F33 -> #DIV/0!
O34: =B34/G34 -> #DIV/0! | P34: =C34/H34 -> #DIV/0! | Q34: =D34/I34 -> #DIV/0! | R34: =E34/J34 -> #DIV/0! | S34: =F34/K34 -> #DIV/0! | X34: =(G34*500)/B34 -> #DIV/0! | Y34: =(H34*500)/C34 -> #DIV/0! | Z34: =(I34*500)/D34 -> #DIV/0! | AA34: =(J34*500)/E34 -> #DIV/0! | AB34: =(K34*500)/F34 -> #DIV/0!
O35: =B35/G35 -> #DIV/0! | P35: =C35/H35 -> #DIV/0! | Q35: =D35/I35 -> #DIV/0! | R35: =E35/J35 -> #DIV/0! | S35: =F35/K35 -> #DIV/0! | X35: =(G35*500)/B35 -> #DIV/0! | Y35: =(H35*500)/C35 -> #DIV/0! | Z35: =(I35*500)/D35 -> #DIV/0! | AA35: =(J35*500)/E35 -> #DIV/0! | AB35: =(K35*500)/F35 -> #DIV/0!
O36: =B36/G36 -> #DIV/0! | P36: =C36/H36 -> #DIV/0! | Q36: =D36/I36 -> #DIV/0! | R36: =E36/J36 -> #DIV/0! | S36: =F36/K36 -> #DIV/0! | X36: =(G36*500)/B36 -> #DIV/0! | Y36: =(H36*500)/C36 -> #DIV/0! | Z36: =(I36*500)/D36 -> #DIV/0! | AA36: =(J36*500)/E36 -> #DIV/0! | AB36: =(K36*500)/F36 -> #DIV/0!
O37: =B37/G37 -> #DIV/0! | P37: =C37/H37 -> #DIV/0! | Q37: =D37/I37 -> #DIV/0! | R37: =E37/J37 -> #DIV/0! | S37: =F37/K37 -> #DIV/0! | X37: =(G37*500)/B37 -> #DIV/0! | Y37: =(H37*500)/C37 -> #DIV/0! | Z37: =(I37*500)/D37 -> #DIV/0! | AA37: =(J37*500)/E37 -> #DIV/0! | AB37: =(K37*500)/F37 -> #DIV/0!
O38: =B38/G38 -> #DIV/0! | P38: =C38/H38 -> #DIV/0! | Q38: =D38/I38 -> #DIV/0! | R38: =E38/J38 -> #DIV/0! | S38: =F38/K38 -> #DIV/0! | X38: =(G38*500)/B38 -> #DIV/0! | Y38: =(H38*500)/C38 -> #DIV/0! | Z38: =(I38*500)/D38 -> #DIV/0! | AA38: =(J38*500)/E38 -> #DIV/0! | AB38: =(K38*500)/F38 -> #DIV/0!
... O65: =B65/G65 -> #DIV/0! | P65: =C65/H65 -> #DIV/0! | Q65: =D65/I65 -> #DIV/0! | R65: =E65/J65 -> #DIV/0! | S65: =F65/K65 -> #DIV/0! | X65: =(G65*500)/B65 -> #DIV/0! | Y65: =(H65*500)/C65 -> #DIV/0! | Z65: =(I65*500)/D65 -> #DIV/0! | AA65: =(J65*500)/E65 -> #DIV/0! | AB65: =(K65*500)/F65 -> #DIV/0!

Sheet DFC or STOP Act
A1: Drug-Free Communities Support Program (DFC) Alcohol-Related Core Measures (2016)
A2: These indicators are provided for informational purposes only. If awarded a DFC grant, you'll be required to track the measures specified by the grant at that time.
A3: Risk Factor | B3: Our objective | D3: by (date) | E3: Met objective? Check=yes | F3: 2009 | G3: 2011 | H3: 2013 | O3: 2015 | P3: Trend | Q3: Local data (2013) to compare to state and national | R3: State Av. (2013) | S3: US Av. (2013)
A4: Youth 30 Day Use (Youth Current Drinkers) | B4: Decrease to | C4: 30 | D4: by 12/31/18 | E4: =O4 -> 31 | F4: =YRBS!F4 -> 25 | G4: =YRBS!G4 -> 46 | H4: =YRBS!H4 -> 32 | I4: =YRBS!I4 -> 0 | J4: =YRBS!J4 -> 0 | K4: =YRBS!K4 -> 0 | L4: =YRBS!L4 -> 0 | M4: =YRBS!M4 -> 0 | ... O4: =YRBS!O4 -> 31 | Q4: 32 | R4: 32.7 | S4: 34.9
A5: Low Youth Perception of Harm: Regular Drinking | B5: Decrease to | E5: =O5 -> 0 | R5: Not available | S5: Not available
A6: Low Youth Perception of Harm: Heavy Drinking | B6: Decrease to | E6: =O6 -> 0 | R6: Not available | S6: Not available
A7: Low Youth Perception of Parental Disapproval of Heavy Drinking | B7: Decrease to | E7: =O7 -> 0 | R7: Not available | S7: Not available
A8: Low Youth Perception of Peer Disapproval of Heavy Drinking | B8: Decrease to | E8: =O8 -> 0 | R8: Not available | S8: Not available
A9: Neutral Youth Attitude Toward Peer Heavy Alcohol Use | B9: Decrease to | E9: =O9 -> 0 | R9: Not available | S9: Not available
