Workbook

Sheet  Truck & Bus Fees
A1: JURISDICTION OF SOUTH CAROLINA - REVISED 6/8/15
G2: Effective 2/15/96
A3: Schedule of Vehicle Registration Fees
A5: Gross Weight | C5: 12 Months | D5: 11 Months | E5: 10 Months | F5: 9 Months | G5: 8 Months | H5: 7 Months | I5: 6 Months | J5: 5 Months | K5: 4 Months | L5: 3 Months | M5: 2 Months | N5: 1 Month
A6: TRUCK, TRUCK TRACTORS, AND BUSES - PNEUMATIC TIRES
A7: 1 | B7: 4000 | C7: 15 | D7: 13.75 | E7: 12.5 | F7: 11.25 | G7: 10 | H7: 10 | I7: 10 | J7: 10 | K7: 10 | L7: 10 | M7: 10 | N7: 10
A8: 4001 | B8: 5000 | C8: 20 | D8: 18.33 | E8: 16.67 | F8: 15 | G8: 13.33 | H8: 11.67 | I8: 10 | J8: 10 | K8: 10 | L8: 10 | M8: 10 | N8: 10
A9: 5001 | B9: 6000 | C9: 30 | D9: 27.5 | E9: 25 | F9: 22.5 | G9: 20 | H9: 17.5 | I9: 15 | J9: 12.5 | K9: 10 | L9: 10 | M9: 10 | N9: 10
A10: 6001 | B10: 7000 | C10: 35 | D10: 32.08 | E10: 29.17 | F10: 26.25 | G10: 23.33 | H10: 20.42 | I10: 17.5 | J10: 14.58 | K10: 11.67 | L10: 10 | M10: 10 | N10: 10
A11: 7001 | B11: 8000 | C11: 40 | D11: 36.67 | E11: 33.33 | F11: 30 | G11: 26.67 | H11: 23.33 | I11: 20 | J11: 16.67 | K11: 13.33 | L11: 10 | M11: 10 | N11: 10
A13: 8001 | B13: 9000 | C13: 45 | D13: 41.25 | E13: 37.5 | F13: 33.75 | G13: 30 | H13: 26.25 | I13: 22.5 | J13: 18.75 | K13: 15 | L13: 11.25 | M13: 10 | N13: 10
A14: 9001 | B14: 10000 | C14: 50 | D14: 45.83 | E14: 41.67 | F14: 37.5 | G14: 33.33 | H14: 29.17 | I14: 25 | J14: 20.83 | K14: 16.67 | L14: 12.5 | M14: 10 | N14: 10
A15: 10001 | B15: 11000 | C15: 55 | D15: 50.42 | E15: 45.83 | F15: 41.25 | G15: 36.67 | H15: 32.08 | I15: 27.5 | J15: 22.92 | K15: 18.33 | L15: 13.75 | M15: 10 | N15: 10
A16: 11001 | B16: 12000 | C16: 60 | D16: 55 | E16: 50 | F16: 45 | G16: 40 | H16: 35 | I16: 30 | J16: 25 | K16: 20 | L16: 15 | M16: 10 | N16: 10
A18: 12001 | B18: 13000 | C18: 65 | D18: 59.58 | E18: 54.17 | F18: 48.75 | G18: 43.33 | H18: 37.92 | I18: 32.5 | J18: 27.08 | K18: 21.67 | L18: 16.25 | M18: 10.83 | N18: 10
A19: 13001 | B19: 14000 | C19: 70 | D19: 64.17 | E19: 58.33 | F19: 52.5 | G19: 46.67 | H19: 40.83 | I19: 35 | J19: 29.17 | K19: 23.33 | L19: 17.5 | M19: 11.67 | N19: 10
A20: 14001 | B20: 15000 | C20: 75 | D20: 68.75 | E20: 62.5 | F20: 56.25 | G20: 50 | H20: 43.75 | I20: 37.5 | J20: 31.25 | K20: 25 | L20: 18.75 | M20: 12.5 | N20: 10
... A98: 79001 | B98: 80000 | C98: 800 | D98: 733.33 | E98: 666.66 | F98: 600 | G98: 533.33 | H98: 466.66 | I98: 400 | J98: 333.33 | K98: 266.66 | L98: 200 | M98: 133.33 | N98: 66.66
A99: Note: Fee double if vehicle is equipped with solid tires

Sheet SC Code of Law
D2: SC Code of Law
B7: SC Road Use Fee
C8: SECTION 12‑37‑2820. Assessment of motor vehicles. (A) The Department of Motor Vehicles annually shall assess, equalize, and apportion the valuation of all large commercial motor vehicles and buses of motor carriers registered for use in this State under the International Registration Plan or otherwise pursuant to Section 56‑3‑190. The valuation must be based on fair market value for the motor vehicles and an assessment ratio of nine and one‑half percent as provided by Section 12‑43‑220(g). Fair market value is determined by depreciating the gross capitalized cost of each motor carrier's large commercial motor vehicle or bus by an annual percentage depreciation allowance down to ten percent of the cost as follows:
C10: (1) Year One | D10: 0.9
C11: (2) Year Two | D11: 0.8
C12: (3) Year Three | D12: 0.65
C13: (4) Year Four | D13: 0.5
C14: (5) Year Five | D14: 0.35
C15: (6) Year Six | D15: 0.25
C16: (7) Year Seven | D16: 0.2
C17: (8) Year Eight | D17: 0.15
C18: (9) Year Nine | D18: 0.1
C20: (B) "Gross capitalized cost", as used in this section, means the original cost upon acquisition for income tax purposes, not to include taxes, interest, or cab customizing. However, for a motor vehicle which is fueled wholly or partially by alternative fuel as defined in Section 12‑28‑110(1), and that was acquired after 2015 but before 2026, the gross capitalized cost is reduced by the differential costs of a comparable diesel or gasoline powered vehicle, not to exceed thirty percent of the total acquisition cost of the motor vehicle. This reduction shall apply for the first ten property tax years for which tax is due following the acquisition of the vehicle.
C22: SECTION 12‑37‑2830. Determination of value according to apportionment factor. The value of a motor carrier's large commercial motor vehicles and buses subject to road use fees in this State must be determined according to the South Carolina apportionment factor for the fleet of which the commercial vehicle is a part.

Sheet Road Use Fee - Interstate
A1: South Carolina Road Use Fee
B4: 2025 Vehicle Depreciation | E4: South Carolina Average Millage Rate | I4: Apportioned Factor
B5: Year of Acquisition | C5: Depreciation Percentage | E5: Effective Date | G5: Millage Rate | I5: Apportioned factor is determined by dividing distance traveled in SC by total distance traveled by the fleet in the distance reporting period
B6: 1st or current year of acquisition (2025) | C6: 0.9 | E6: 45658 | G6: 0.0266
B7: 2nd year of acquisition (2024) | C7: 0.8 | E7: 45292 | G7: 0.0264 | I7: Fair Market Value
B8: 3nd year of acquisition (2023) | C8: 0.65 | E8: 44927 | G8: 0.0263 | I8: Fair Market Value is determined by the multiplying the GROSS CAPTIALIZED COST by the DEPRECIATION PERCENTAGE
B9: 4th year of acquisition (2022) | C9: 0.5 | E9: 44562 | G9: 0.0264
B10: 5th year of acquisition (2021) | C10: 0.35 | E10: 44197 | G10: 0.0264
B11: 6th year of acquisition (2020) | C11: 0.25
B12: 7th year of acquisition (2019) | C12: 0.2 | E12: Road Use time factor | I12: Definitions
B13: 8th year of acquisition (2018) | C13: 0.15 | E13: The number of months left in the registration year | I13: Gross Capitalized Cost - The price of a vehicle less any taxes, interest, or customizations of the vehicle at time of purchase.
B14: 9th and subsequent year of acquisition (2017 or older) | C14: 0.1 | E14: Registration Months | G14: Road Use Fee Time Factor
E15: 12 | G15: 1 | I15: Fair Market Value - The value of the vehicle when the Gross Capitalized Cost is multiplied by the depreciation percentage for the acquisition year.
B16: 2024 Vehicle Depreciation | E16: 11 | G16: 0.91667
B17: Year of Acquisition | C17: Depreciation Percentage | E17: 10 | G17: 0.83333
B18: 1st or current year of acquisition (2023) | C18: 0.9 | E18: 9 | G18: 0.75
B19: 2nd year of acquisition (2022) | C19: 0.8 | E19: 8 | G19: 0.66667
B20: 3nd year of acquisition (2021) | C20: 0.65 | E20: 7 | G20: 0.58333
B21: 4th year of acquisition (2020) | C21: 0.5 | E21: 6 | G21: 0.5
B22: 5th year of acquisition (2019) | C22: 0.35 | E22: 5 | G22: 0.41667
B23: 6th year of acquisition (2018) | C23: 0.25 | E23: 4 | G23: 0.33333
B24: 7th year of acquisition (2017) | C24: 0.2 | E24: 3 | G24: 0.25
B25: 8th year of acquisition (2016) | C25: 0.15 | E25: 2 | G25: 0.16667
B26: 9th and subsequent year of acquisition (2015 or older) | C26: 0.1 | E26: 1 | G26: 0.08333
B28: 2023 Vehicle Depreciation
B29: Year of Acquisition | C29: Depreciation Percentage
B30: 1st or current year of acquisition (2023) | C30: 0.9
B31: 2nd year of acquisition (2022) | C31: 0.8
B32: 3nd year of acquisition (2021) | C32: 0.65
B33: 4th year of acquisition (2020) | C33: 0.5
B34: 5th year of acquisition (2019) | C34: 0.35
B35: 6th year of acquisition (2018) | C35: 0.25
B36: 7th year of acquisition (2017) | C36: 0.2
B37: 8th year of acquisition (2016) | C37: 0.15
B38: 9th and subsequent year of acquisition (2015 or older) | C38: 0.1
B40: 2022 Vehicle Depreciation
B41: Year of Acquisition | C41: Depreciation Percentage
B42: 1st or current year of acquisition (2022) | C42: 0.9
B43: 2nd year of acquisition (2021) | C43: 0.8
B44: 3nd year of acquisition (2020) | C44: 0.65
...

Sheet  Bus Fees REVISED
A1: JURISDICTION OF SOUTH CAROLINA - REVISED 12/19/19
G2: Effective 01/01/2020
A3: Schedule of Vehicle Registration Fees
C4: + $3 | D4: + $2.75 | E4: + $2.50 | F4: + $2.25 | G4: + $2.00 | H4: + $1.75 | I4: + $1.50 | J4: + $1.25 | K4: + $1.00 | L4: + $0.75 | M4: + $0.50 | N4: + $0.25
A6: Unladen Weight | C6: 12 Months | D6: 11 Months | E6: 10 Months | F6: 9 Months | G6: 8 Months | H6: 7 Months | I6: 6 Months | J6: 5 Months | K6: 4 Months | L6: 3 Months | M6: 2 Months | N6: 1 Month
A7: 1 | B7: 2000 | C7: 9 | D7: 9 | E7: 9 | F7: 9 | G7: 9 | H7: 9 | I7: 9 | J7: 9 | K7: 9 | L7: 9 | M7: 9 | N7: 9
A8: 2001 | B8: 2500 | C8: 12 | D8: 11 | E8: 10 | F8: 10 | G8: 10 | H8: 10 | I8: 10 | J8: 10 | K8: 10 | L8: 10 | M8: 10 | N8: 10 | O8: + $1.00
A9: 2501 | B9: 3000 | C9: 15 | D9: 13.75 | E9: 12.5 | F9: 11.25 | G9: 10 | H9: 10 | I9: 10 | J9: 10 | K9: 10 | L9: 10 | M9: 10 | N9: 10 | O9: + $1.25
A10: 3001 | B10: 3500 | C10: 18 | D10: 16.5 | E10: 15 | F10: 13.5 | G10: 12 | H10: 10.5 | I10: 10 | J10: 10 | K10: 10 | L10: 10 | M10: 10 | N10: 10 | O10: + $1.50
A11: 3501 | B11: 4000 | C11: 21 | D11: 19.25 | E11: 17.5 | F11: 15.75 | G11: 14 | H11: 12.25 | I11: 10.5 | J11: 10 | K11: 10 | L11: 10 | M11: 10 | N11: 10 | O11: + $1.75
A13: 4001 | B13: 4500 | C13: 24 | D13: 22 | E13: 20 | F13: 18 | G13: 16 | H13: 14 | I13: 12 | J13: 10 | K13: 10 | L13: 10 | M13: 10 | N13: 10 | O13: + $2.00
A14: 4501 | B14: 5000 | C14: 27 | D14: 24.75 | E14: 22.5 | F14: 20.25 | G14: 18 | H14: 15.75 | I14: 13.5 | J14: 11.25 | K14: 10 | L14: 10 | M14: 10 | N14: 10 | O14: + $2.25
A15: 5001 | B15: 5500 | C15: 30 | D15: 27.5 | E15: 25 | F15: 22.5 | G15: 20 | H15: 17.5 | I15: 15 | J15: 12.5 | K15: 10 | L15: 10 | M15: 10 | N15: 10 | O15: + $2.50
A16: 5501 | B16: 6000 | C16: 33 | D16: 30.25 | E16: 27.5 | F16: 24.75 | G16: 22 | H16: 19.25 | I16: 16.5 | J16: 13.75 | K16: 11 | L16: 10 | M16: 10 | N16: 10 | O16: + $2.75
A17: 6001 | B17: 6500 | C17: 36 | D17: 33 | E17: 30 | F17: 27 | G17: 24 | H17: 21 | I17: 18 | J17: 15 | K17: 12 | L17: 10 | M17: 10 | N17: 10 | O17: + $3.00
A19: 6501 | B19: 7000 | C19: 39 | D19: 35.75 | E19: 32.5 | F19: 29.25 | G19: 26 | H19: 22.75 | I19: 19.5 | J19: 16.25 | K19: 13 | L19: 10 | M19: 10 | N19: 10 | O19: + $3.02
A20: 7001 | B20: 7500 | C20: 42 | D20: 38.5 | E20: 35 | F20: 31.5 | G20: 28 | H20: 24.5 | I20: 21 | J20: 17.5 | K20: 14 | L20: 10.5 | M20: 10 | N20: 10
A21: 7501 | B21: 8000 | C21: 45 | D21: 41.25 | E21: 37.5 | F21: 33.75 | G21: 30 | H21: 26.25 | I21: 22.5 | J21: 18.75 | K21: 15 | L21: 11.25 | M21: 10 | N21: 10
A22: 8001 | B22: 8500 | C22: 48 | D22: 44 | E22: 40 | F22: 36 | G22: 32 | H22: 28 | I22: 24 | J22: 20 | K22: 16 | L22: 12 | M22: 10 | N22: 10
A23: 8501 | B23: 9000 | C23: 51 | D23: 46.75 | E23: 42.5 | F23: 38.25 | G23: 34 | H23: 29.75 | I23: 25.5 | J23: 21.25 | K23: 17 | L23: 12.75 | M23: 10 | N23: 10
A25: 9001 | B25: 9500 | C25: 54 | D25: 49.5 | E25: 45 | F25: 40.5 | G25: 36 | H25: 31.5 | I25: 27 | J25: 22.5 | K25: 18 | L25: 13.5 | M25: 10 | N25: 10
A26: 9501 | B26: 10000 | C26: 57 | D26: 52.25 | E26: 47.5 | F26: 42.75 | G26: 38 | H26: 33.25 | I26: 28.5 | J26: 23.75 | K26: 19 | L26: 14.25 | M26: 10 | N26: 10
A27: 10001 | B27: 10500 | C27: 60 | D27: 55 | E27: 50 | F27: 45 | G27: 40 | H27: 35 | I27: 30 | J27: 25 | K27: 20 | L27: 15 | M27: 10 | N27: 10
A28: 10501 | B28: 11000 | C28: 63 | D28: 57.75 | E28: 52.5 | F28: 47.25 | G28: 42 | H28: 36.75 | I28: 31.5 | J28: 26.25 | K28: 21 | L28: 15.75 | M28: 10.5 | N28: 10
A29: 11001 | B29: 11500 | C29: 66 | D29: 60.5 | E29: 55 | F29: 49.5 | G29: 44 | H29: 38.5 | I29: 33 | J29: 27.5 | K29: 22 | L29: 16.5 | M29: 11 | N29: 10
A31: 11501 | B31: 12000 | C31: 69 | D31: 63.25 | E31: 57.5 | F31: 51.75 | G31: 46 | H31: 40.25 | I31: 34.5 | J31: 28.75 | K31: 23 | L31: 17.25 | M31: 11.5 | N31: 10
A32: 12001 | B32: 12500 | C32: 72 | D32: 66 | E32: 60 | F32: 54 | G32: 48 | H32: 42 | I32: 36 | J32: 30 | K32: 24 | L32: 18 | M32: 12 | N32: 10
A33: 12501 | B33: 13000 | C33: 75 | D33: 68.75 | E33: 62.5 | F33: 56.25 | G33: 50 | H33: 43.75 | I33: 37.5 | J33: 31.25 | K33: 25 | L33: 18.75 | M33: 12.5 | N33: 10
... A59: 23501 | B59: 24000 | C59: 141 | D59: 129.25 | E59: 117.5 | F59: 105.75 | G59: 94 | H59: 82.25 | I59: 70.5 | J59: 58.75 | K59: 47 | L59: 35.25 | M59: 23.5 | N59: 11.75
A61: 24001 | B61: 24500 | C61: 144 | D61: 132 | E61: 120 | F61: 108 | G61: 96 | H61: 84 | I61: 72 | J61: 60 | K61: 48 | L61: 36 | M61: 24 | N61: 12 | O61: +$12.00
A62: 24501 | B62: 25000 | C62: 147 | D62: 134.75 | E62: 122.5 | F62: 110.25 | G62: 98 | H62: 85.75 | I62: 73.5 | J62: 61.25 | K62: 49 | L62: 36.75 | M62: 24.5 | N62: 12.25 | O62: +$12.25
A63: 25001 | B63: 25500 | C63: 150 | D63: 137.5 | E63: 125 | F63: 112.5 | G63: 100 | H63: 87.5 | I63: 75 | J63: 62.5 | K63: 50 | L63: 37.5 | M63: 25 | N63: 12.5 | O63: +$12.50
A64: 25501 | B64: 26000 | C64: 153 | D64: 140.25 | E64: 127.5 | F64: 114.75 | G64: 102 | H64: 89.25 | I64: 76.5 | J64: 63.75 | K64: 51 | L64: 38.25 | M64: 25.5 | N64: 12.75 | O64: +$12.75
A65: 26001 | B65: 26500 | C65: 156 | D65: 143 | E65: 130 | F65: 117 | G65: 104 | H65: 91 | I65: 78 | J65: 65 | K65: 52 | L65: 39 | M65: 26 | N65: 13 | O65: +$13
A67: 26501 | B67: 27000 | C67: 159 | D67: 145.75 | E67: 132.5 | F67: 119.25 | G67: 106 | H67: 92.75 | I67: 79.5 | J67: 66.25 | K67: 53 | L67: 39.75 | M67: 26.5 | N67: 13.25 | O67: + $13.25
A68: 27001 | B68: 27500 | C68: 162 | D68: 148.5 | E68: 135 | F68: 121.5 | G68: 108 | H68: 94.5 | I68: 81 | J68: 67.5 | K68: 54 | L68: 40.5 | M68: 27 | N68: 13.5 | O68: + $13.50
A69: 27501 | B69: 28000 | C69: 165 | D69: 151.25 | E69: 137.5 | F69: 123.75 | G69: 110 | H69: 96.25 | I69: 82.5 | J69: 68.75 | K69: 55 | L69: 41.25 | M69: 27.5 | N69: 13.75 | O69: + $13.75
A70: 28001 | B70: 28500 | C70: 168 | D70: 154 | E70: 140 | F70: 126 | G70: 112 | H70: 98 | I70: 84 | J70: 70 | K70: 56 | L70: 42 | M70: 28 | N70: 14 | O70: + $14.00
A71: 28501 | B71: 29000 | C71: 171 | D71: 156.75 | E71: 142.5 | F71: 128.25 | G71: 114 | H71: 99.75 | I71: 85.5 | J71: 71.25 | K71: 57 | L71: 42.75 | M71: 28.5 | N71: 14.25 | O71: + $14.25
A73: 29001 | B73: 29500 | C73: 174 | D73: 159.5 | E73: 145 | F73: 130.5 | G73: 116 | H73: 101.5 | I73: 87 | J73: 72.5 | K73: 58 | L73: 43.5 | M73: 29 | N73: 14.5
...

Sheet SC Millage Rate Calculations
B6: 2022 State Millage
B7: =SUM(0.95*0.08*0.348) -> 0.026448
B9: 2021 State Millage
B10: =SUM(0.95*0.08*0.3468) -> 0.0263568
B12: 2020 State Millage
B13: =SUM(0.95*0.08*0.3424) -> 0.0260224
B15: 2019 State Millage
B16: =SUM(0.95*0.08*0.3385) -> 0.025726

Sheet RUF Calc Examples 2019 Millage 
A1: SOUTH CAROLINA ROAD USE FEE
A2: * Current Millage Rate effective January 1, 2019*
A3: *2019 Vehicle Depreciation Allowance effective January 1, 2019
A5: Fair Market Value
A7: Example 1a
A8: Truck/Tractor - Renewal
A10: Registration Gross Weight (pounds): | B10: 55000 | E10: Vehicle Depreciation (2019)
A11: Registration Effective Date: | B11: 43678 | E11: YEAR | F11: Percent of Depreciation Allowance
A12: Fleet Expiration Date: | B12: 44043 | E12: 1st or current year of acquisition (2019) | F12: 0.9
A13: Registration Period (months): | B13: 12 | E13: 2nd year of acquisition (2018) | F13: 0.8
A14: South Carolina Distance Percentage: | B14: 0.92091 | E14: 3nd year of acquisition (2017) | F14: 0.65
A15: Road Use Time Factor: | B15: 1 | E15: 4th year of acquisition (2016) | F15: 0.5
A16: Registration Weight Fee: | B16: 415 | E16: 5th year of acquisition (2015) | F16: 0.35
A17: Registration Weight Fee Due: $415.00 * (92.091/100) | B17: =ROUND(B14*B16,2) -> 382.18 | E17: 6th year of acquisition (2014) | F17: 0.25
A18: Purchase Price: | B18: 12000 | E18: 7th year of acquisition (2013) | F18: 0.2
A19: Depreciation: (Purchase Year: 2017) | B19: 0.65 | E19: 8th year of acquisition (2012) | F19: 0.15
A20: Fair Market Value: ($12,000.00 * 0.65) | B20: =ROUND(B18*B19,2) -> 7800 | E20: 9th and subsequent year of acquisition (2011 or older) | F20: 0.1
A21: *Millage Rate: | B21: 0.0258
A22: Road Use Fee Due: ($7,800*92.091/100*0.0258*1) | B22: =ROUND(B20*B14*B21*B15,2) -> 185.32
A23: Total Net Due: (382.18 + 185.32) | B23: =SUM(B17,B22) -> 567.5
A25: Example 1b
A26: Bus - Renewal
A28: Registration Gross Weight (pounds): 37,610 + (56*150) | B28: 46010
A29: Registration Effective Date: | B29: 43800
A30: Fleet Expiration Date: | B30: 44165
A31: Registration Period (months): | B31: 12
A32: South Carolina Distance Percentage: | B32: 0.27439
A33: Road Use Time Factor: | B33: 1
A34: Registration Weight Fee: | B34: 276
A35: Registration Weight Fee Due: $276.00 * (27.44/100) | B35: =ROUND(B34*B32,2) -> 75.73
A36: Base Purchase Price: | B36: 496034
A37: Deprecation: (Purchase year: 2016) | B37: 0.5
A38: Fair Market Value: (496,034.00 * 0.50) | B38: =ROUND(B36*B37,2) -> 248017
A39: *Millage Rate: | B39: 0.0258
A40: Road Use Fee Due: ($248,017.00 * 27.44/100*0.0258*1) | B40: =ROUND(B38*B32*B39*B33,2) -> 1755.78
A41: Total Net Due: ($1,755.78 + $75.73) | B41: =SUM(B35,B40) -> 1831.51
A43: Example 2a
A44: Truck/Tractor - Add Vehicle
A46: Registration Gross Weight (pounds): | B46: 80000
A47: Registration Effective Date: | B47: 43678
...

Sheet RUF Calc Examples 2020
B1: SOUTH CAROLINA ROAD USE FEE
C2: 2020 Millage Rate effective January 1, 2020
C3: 2020 Vehicle Depreciation effective January 1, 2020
C4: Road Use Fee will effect the following transactions:
A5: Example 1a | C5: *New Accounts
A6: Truck/Tractor - New Account | C6: *Renewal
C7: *Add Vehicle
A8: Registration Gross Weight (pounds): | B8: 70000 | C8: *Add with Transfer
A9: Registration Effective Date: | B9: 43891
A10: Fleet Expiration Date: | B10: 44255
A11: Registration Period (months): | B11: 12
A12: South Carolina Distance Percentage: | B12: 0.28804
A13: Prorate Factor: | B13: 1
A14: Registration Weight Fee: | B14: 618
A15: Registration Weight Fee Due: $618.00* (28.804/100) | B15: =ROUND(B12*B14,2) -> 178.01
A16: Gross Captialized Cost: | B16: 12000
A17: Depreciation: (Purchase Year: 2017) | B17: 0.5
A18: Fair Market Value: $12,000.00 * 0.50 | B18: =ROUND(B16*B17,2) -> 6000
A19: *Millage Rate: | B19: 0.026
A20: Road Use Fee Due: ($6,000*28.804/100*0.0260*1) | B20: =ROUND(B18*B12*B19*B13,2) -> 44.93
A21: Total Net Due: $178.01 + $44.93 | B21: =SUM(B15,B20) -> 222.94
A23: Example 1b
A24: Truck/Tractor - Renewal
A26: Registration Gross Weight (pounds): | B26: 55000
A27: Registration Effective Date: | B27: 44044
A28: Fleet Expiration Date: | B28: 44408
A29: Registration Period (months): | B29: 12
A30: South Carolina Distance Percentage: | B30: 0.92091
A31: Prorate Factor: | B31: 1
A32: Registration Weight Fee: | B32: 415
A33: Registration Weight Fee Due: $415.00 * (92.091/100) | B33: =ROUND(B30*B32,2) -> 382.18
A34: Gross Captialized Cost: | B34: 12000
A35: Depreciation: (Purchase Year: 2017) | B35: 0.5
A36: Fair Market Value: $12,000.00 * 0.50 | B36: =ROUND(B34*B35,2) -> 6000
A37: *Millage Rate: | B37: 0.026
A38: Road Use Fee Due: ($6,000*92.091/100*0.0260*1) | B38: =ROUND(B36*B30*B37*B31,2) -> 143.66
A39: Total Net Due: $382.18 + $143.66 | B39: =SUM(B33,B38) -> 525.84
A41: Example 1c
A42: Bus - Renewal
A44: Registration Gross Weight (pounds): 37,610 + (56*150) | B44: 46010
...

Sheet Calculations and Formulas
E2: CALCULCATIONS AND FORMULAS
A4: SOUTH CAROLINA ROAD USE FEE
A5: Road Use Fee will calculate using the following scenarios for LARGE commercial vehicles GVW 26,001 or greater.
A7: Vehicles GVW 26,001 lbs. OR MORE: | C7: Fair Market Value (Gross Captialized Cost x Depreciation) x SC Percent Travel x Millage Rate x Road Use time factor
A9: Vehicles GVW 26,000 lbs. OR LESS: | C9: Road Use Fee will not calculate for vehicles GVW 26,000 or less
A11: To Calculate Road Use Fee using Gross Captialized Cost 2025 MILLAGE :
A13: Gross Capitalized Cost | B13: X | C13: Depreciation | D13: X | E13: SC Travel Percentage | F13: X | G13: 2025 SC millage rate | H13: X | I13: Road Use time factor
A14: 106922 | B14: X | C14: 0.2 | D14: X | E14: 52.632 | F14: X | G14: 0.0266 | H14: X | I14: 1 | J14: = | K14: =ROUND(A14*C14*E14/100*G14*I14,2) -> 299.38
A15: 40000 | B15: X | C15: 0.5 | D15: X | E15: 52.632 | F15: X | G15: 0.0266 | H15: X | I15: 1 | J15: = | K15: =ROUND(A15*C15*E15/100*G15*I15,2) -> 280
A16: 40000 | B16: X | C16: 0.5 | D16: X | E16: 52.632 | F16: X | G16: 0.0266 | H16: X | I16: 1 | J16: = | K16: =ROUND(A16*C16*E16/100*G16*I16,2) -> 280
A17: 40000 | B17: X | C17: 0.5 | D17: X | E17: 52.632 | F17: X | G17: 0.0266 | H17: X | I17: 1 | J17: = | K17: =ROUND(A17*C17*E17/100*G17*I17,2) -> 280
A18: 40000 | B18: X | C18: 0.5 | D18: X | E18: 52.632 | F18: X | G18: 0.0266 | H18: X | I18: 1 | J18: = | K18: =ROUND(A18*C18*E18/100*G18*I18,2) -> 280
A19: 50000 | B19: X | C19: 0.5 | D19: X | E19: 52.632 | F19: X | G19: 0.0266 | H19: X | I19: 1 | J19: = | K19: =ROUND(A19*C19*E19/100*G19*I19,2) -> 350
A20: 50000 | B20: X | C20: 0.5 | D20: X | E20: 52.632 | F20: X | G20: 0.0266 | H20: X | I20: 1 | J20: = | K20: =ROUND(A20*C20*E20/100*G20*I20,2) -> 350
A21: 350000 | B21: X | C21: 0.5 | D21: X | E21: 52.632 | F21: X | G21: 0.0266 | H21: X | I21: 1 | J21: = | K21: =ROUND(A21*C21*E21/100*G21*I21,2) -> 2450.02
A22: 275000 | B22: X | C22: 0.5 | D22: X | E22: 52.632 | F22: X | G22: 0.0266 | H22: X | I22: 1 | J22: = | K22: =ROUND(A22*C22*E22/100*G22*I22,2) -> 1925.02
A23: 22119 | B23: X | C23: 0.5 | D23: X | E23: 52.632 | F23: X | G23: 0.0266 | H23: X | I23: 1 | J23: = | K23: =ROUND(A23*C23*E23/100*G23*I23,2) -> 154.83
A24: 22119 | B24: X | C24: 0.5 | D24: X | E24: 52.632 | F24: X | G24: 0.0266 | H24: X | I24: 1 | J24: = | K24: =ROUND(A24*C24*E24/100*G24*I24,2) -> 154.83
A25: 22119 | B25: X | C25: 0.5 | D25: X | E25: 52.632 | F25: X | G25: 0.0266 | H25: X | I25: 1 | J25: = | K25: =ROUND(A25*C25*E25/100*G25*I25,2) -> 154.83
... A33: 384571 | B33: X | C33: 0.8 | D33: X | E33: 52.632 | F33: X | G33: 0.0266 | H33: X | I33: 1 | J33: = | K33: =ROUND(A33*C33*E33/100*G33*I33,2) -> 4307.23

Sheet RUF Calc Examples 2021
B1: SOUTH CAROLINA ROAD USE FEE
C2: 2021 Millage Rate effective January 1, 2021
C3: 2021 Vehicle Depreciation effective January 1, 2021
C4: Road Use Fee will effect the following transactions:
A5: Example 1a | C5: *New Accounts
A6: Truck/Tractor - New Account | C6: *Renewal
C7: *Add Vehicle
A8: Registration Gross Weight (pounds): | B8: 70000 | C8: *Add with Transfer
A9: Registration Effective Date: | B9: 44197
A10: Fleet Expiration Date: | B10: 44561
A11: Registration Period (months): | B11: 12
A12: South Carolina Distance Percentage: | B12: 0.28804
A13: Road Use time factor: | B13: 1
A14: Registration Weight Fee: | B14: =' Truck & Bus Fees'!C87 -> 618
A15: Registration Weight Fee Due: $618.00* (28.804/100) | B15: =ROUND(B12*B14,2) -> 178.01
A16: Gross Capitalized Cost: | B16: 12000
A17: 2021 Depreciation: (Purchase Year: 2017) | B17: ='Road Use Fee - Interstate'!C58 -> 0.35
A18: Fair Market Value: $12,000.00 * 0.35 | B18: =ROUND(B16*B17,2) -> 4200
A19: 2021 Millage Rate: | B19: ='Road Use Fee - Interstate'!E11 -> 0
A20: Road Use Fee Due: ($4,200*28.804/100*0.0264*1) | B20: =ROUND(B18*B12*B19*B13,2) -> 0
A21: Total Net Due: $178.01 + $31.94 | B21: =SUM(B15,B20) -> 178.01
A23: Example 1b
A24: Bus - New Account
A26: Registration Gross Weight (pounds): 39,500 + (56*150) | B26: =39500+(56*150) -> 47900
A27: Registration Effective Date: | B27: 44197
A28: Fleet Expiration Date: | B28: 44561
A29: Registration Period (months): | B29: 12
A30: South Carolina Distance Percentage: | B30: 0.64745
A31: Road Use time factor: | B31: 1
A32: Registration Weight Fee: | B32: =#REF! -> #REF!
A33: Registration Weight Fee Due: $285.00* (64.745/100) | B33: =ROUND(B30*B32,2) -> #REF!
A34: Gross Capitalized Cost: | B34: 105000
A35: 2021 Depreciation: (Purchase Year: 2015) | B35: ='Road Use Fee - Interstate'!C60 -> 0.2
A36: Fair Market Value: $12,000.00 * 0.35 | B36: =ROUND(B34*B35,2) -> 21000
A37: 2021 Millage Rate: | B37: ='Road Use Fee - Interstate'!E11 -> 0
A38: Road Use Fee Due: ($21,000*64.745/100*0.0264*1) | B38: =ROUND(B36*B30*B37*B31,2) -> 0
A39: Total Net Due: $184.51 + $358.95 | B39: =SUM(B33,B38) -> #REF!
A41: Example 2a
A42: Truck/Tractor - Renewal
A44: Registration Gross Weight (pounds): | B44: 55000
...

Sheet RUF Calc Examples 2025
B1: SOUTH CAROLINA ROAD USE FEE
C2: 2025 Millage Rate effective January 1, 2025
C3: 2025 Vehicle Depreciation effective January 1, 2025
C4: Road Use Fee will effect the following transactions:
A5: Example 1a | C5: New Accounts
A6: Truck/Tractor - New Account | C6: Renewal
C7: Add Vehicle
A8: Registration Gross Weight (pounds): | B8: 71000 | C8: Add with Transfer
A9: Registration Effective Date: | B9: 45658
A10: Fleet Expiration Date: | B10: 46022
A11: Registration Period (months): | B11: 12
A12: South Carolina Distance Percentage: | B12: 0.28804
A13: Road Use time factor: | B13: 1
A14: Registration Weight Fee: | B14: =' Truck & Bus Fees'!C87 -> 618
A15: Registration Weight Fee Due: $618.00* (28.804/100) | B15: =ROUND(B12*B14,2) -> 178.01
A16: Gross Capitalized Cost: | B16: 12000
A17: 2025 Depreciation: (Purchase Year: 2018) | B17: ='Road Use Fee - Interstate'!C13 -> 0.15
A18: Fair Market Value: $12,000.00 * 0.15 | B18: =ROUND(B16*B17,2) -> 1800
B19: 0.0266
A20: Road Use Fee Due: ($1,800*28.804/100*0.0266*1) | B20: =ROUND(B18*B12*B19*B13,2) -> 13.79
A21: Total Net Due: $178.01+ $13.69 | B21: =SUM(B15,B20) -> 191.8
A23: Example 1b
A24: Bus - New Account
B26: 47900
A27: Registration Effective Date: | B27: 45658
A28: Fleet Expiration Date: | B28: 46022
A29: Registration Period (months): | B29: 12
A30: South Carolina Distance Percentage: | B30: 0.64745
A31: Road Use time factor: | B31: 1
A32: Registration Weight Fee: | B32: =' Truck & Bus Fees'!C60 -> 362
A33: Registration Weight Fee Due: $362.00* (64.745/100) | B33: =ROUND(B30*B32,2) -> 234.38
A34: Gross Capitalized Cost: | B34: 105000
A35: 2025 Depreciation: (Purchase Year: 2015) | B35: ='Road Use Fee - Interstate'!C14 -> 0.1
A36: Fair Market Value: $105,000 * 0.10 | B36: =ROUND(B34*B35,2) -> 10500
A37: 2025 Millage Rate: | B37: 0.0266
A38: Road Use Fee Due: ($10,500*64.745/100*0.0266*1) | B38: =ROUND(B36*B30*B37*B31,2) -> 180.83
A39: Total Net Due: $234.38 + $179.47 | B39: =SUM(B33,B38) -> 415.21
A41: Example 2a
A42: Truck/Tractor - Renewal
A44: Registration Gross Weight (pounds): | B44: 55000
...

Sheet SC Road Use Fee Memo

Sheet RUF Calc Example 2021 Millage
B1: SOUTH CAROLINA ROAD USE FEE
C2: Annual Millage Rate effective January 1, 2021
C3: 2020 Vehicle Depreciation Allowance effective January 1, 2021
C4: Road Use Fee will effect the following transactions:
A5: Example 1a | C5: *New Accounts
A6: Truck/Tractor - New Account (estimated APVD for SC) | C6: *Renewal
C7: *Add Vehicle
A8: Registration Gross Weight (pounds): | B8: 70000 | C8: *Add with Transfer
A9: Registration Effective Date: | B9: 43891
A10: Fleet Expiration Date: | B10: 44255
A11: Registration Period (months): | B11: 12
A12: South Carolina Distance Percentage: | B12: 0.28804
A13: Road Use Time Factor: | B13: 1
A14: Registration Weight Fee: | B14: 618
A15: Registration Weight Fee Due: $618.00* (28.804/100) | B15: =ROUND(B12*B14,2) -> 178.01
A16: Purchase Price: | B16: 12000
A17: Depreciation: (Purchase Year: 2017) | B17: 0.5
A18: Fair Market Value: $12,000.00 * 0.50 | B18: =ROUND(B16*B17,2) -> 6000
A19: *Millage Rate: | B19: 0.026
A20: Road Use Fee Due: ($6,000*28.804/100*0.0260*1) | B20: =ROUND(B18*B12*B19*B13,2) -> 44.93
A21: Total Net Due: $178.01 + $44.93 | B21: =SUM(B15,B20) -> 222.94
A23: Example 1b
A24: Truck/Tractor - Renewal
A26: Registration Gross Weight (pounds): | B26: 55000
A27: Registration Effective Date: | B27: 44044
A28: Fleet Expiration Date: | B28: 44408
A29: Registration Period (months): | B29: 12
A30: South Carolina Distance Percentage: | B30: 0.92091
A31: Road Use Time Factor: | B31: 1
A32: Registration Weight Fee: | B32: 415
A33: Registration Weight Fee Due: $415.00 * (92.091/100) | B33: =ROUND(B30*B32,2) -> 382.18
A34: Purchase Price: | B34: 12000
A35: Depreciation: (Purchase Year: 2017) | B35: 0.5
A36: Fair Market Value: $12,000.00 * 0.50 | B36: =ROUND(B34*B35,2) -> 6000
A37: *Millage Rate: | B37: 0.026
A38: Road Use Fee Due: ($6,000*92.091/100*0.0260*1) | B38: =ROUND(B36*B30*B37*B31,2) -> 143.66
A39: Total Net Due: $382.18 + $143.66 | B39: =SUM(B33,B38) -> 525.84
A41: Example 1c
A42: Bus - Renewal
A44: Registration Gross Weight (pounds): 37,610 + (56*150) | B44: 46010
...

Sheet Road Use Fee - Intrastate
B1: South Carolina Road Use Fee
B2: Effective Date: January 1, 2019
B4: Vehicle Depreciation
B5: YEAR | F5: Percent of Depreciation Allowance
B6: 1st or current year of acquisition | G6: 0.9
B7: 2nd year of acquisition | G7: 0.8
B8: 3nd year of acquisition | G8: 0.65
B9: 4th year of acquisition | G9: 0.5
B10: 5th year of acquisition | G10: 0.35
B11: 6th year of acquisition | G11: 0.25
B12: 7th year of acquisition | G12: 0.2
B13: 8th year of acquisition | G13: 0.15
B14: 9th and subsequent year of acquisition | G14: 0.1
B17: Pro-Rate Factor
B19: Pro-rate factor is determined by dividing distance traveled in SC by total
B20: distance traveled by the fleet in the distance reporting period
B23: Annual Millage Rate
B24: Annual Average Millage Rate Value for South Carolina:
B25: 0.0254 | C25: (This amount subject to change annually)
B28: Time Factor
B29: The time factor should be prorated by the number of months left in
B30: the current registration year
B32: Registration Months | F32: Road Use Fee Time Factor
B33: 12 | G33: 1
B34: 11 | G34: 0.91667
B35: 10 | G35: 0.83333
B36: 9 | G36: 0.75
B37: 8 | G37: 0.66667
B38: 7 | G38: 0.58333
A39: 50 | B39: 6 | G39: 0.5
B40: 5 | G40: 0.41667
B41: 4 | G41: 0.33333
B42: 3 | G42: 0.25
B43: 2 | G43: 0.16667
B44: 1 | G44: 0.08333
B47: To Calculate Road Use Fee:
B49: Purchase Price of Vehicle X Depreciation Percent Allowance X Millage Rate Value X Time Factor
B50: 85000 | C50: X | D50: 0.9 | E50: X | H50: 0.0254 | I50: X | J50: 1 | K50: = | L50: =SUM(B50*D50*H50*J50) -> 1943.1
B51: 69000 | C51: X | D51: 0.5 | E51: X | H51: 0.0254 | I51: X | J51: 1 | K51: = | L51: =SUM(B51*D51*H51*J51) -> 876.3
B52: 120000 | C52: X | D52: 0.2 | E52: X | H52: 0.0254 | I52: X | J52: 1 | K52: = | L52: =SUM(B52*D52*H52*J52) -> 609.6
...
