Workbook
Name TODAY: #REF!

Sheet 2014 Contact Log
A1: 2014 Contact Log | C1: Contact Details | J1: Contact Status
A2: Contact Number | B2: Description of CI issue | C2: Investigator | D2: Department | E2: Date Received | F2: Date Complete | G2: Time to Complete (Days) | H2: Follow-up (Y or N) | I2: Notes | J2: Complete (x) | K2: Referral (x) | L2: Information only (x) | M2: Upgraded to ECR (x) | N2: Substantiated (S )S Unsubstantiated (U) | O2: CIs satisfied (S) or dissatisfied (D) with ECP | P2: Appealed (x) | Q2: Department | R2: Union /Non-union, contractor | S2: Classification of concern Classification of concerns (e.g., nuclear safety and quality, retaliation, industrial and personnel safety, security, human resources, management practices, training, technical (non-safety related), human error, intentional wrongdoing, EEOC, NRC referred allegations, SCWE, chilling effect, environmental, other). | T2: Method received The method by which the concern was received (e.g., exit interviews, interviews, telephone, mail, walk-ins, condition report process, Web site, hotline, anonymous, drop box, tailgate meeting, presentation, departmental chat, survey, management, NRC referral, DOL). | U2: Previously processed via the CAP. | V2: CAP # | W2: CIs requesting confidentiality (Y or N) | X2: Average time (days) to complete corrective action. | Y2: CI satisfied or dissatisfied with ECP process (Y or N) | Z2: CIs satisfied or dissatisfied with ECP results (Y or N) | AA2: Number of concerns received. | AB2: Number of concerns investigated. | AC2: Number of concerns resolved informally. | AD2: Number of concerns in backlog. | AE2: Percent of concerns substantiated. | AF2: Average age of open concerns. | AG2: Average time to resolve concerns.
J4: =COUNTIF(J5:J14,"x") -> 0 | K4: =COUNTIF(K5:K14,"x") -> 0 | L4: =COUNTIF(L5:L14,"x") -> 0 | M4: =COUNTIF(M5:M14,"x") -> 0 | N4: =COUNTIF(N5:N14,"s") -> 0 | O4: =COUNTIF(O5:O14,"s") -> 0 | P4: =COUNTIF(P5:P14,"x") -> 0
A5: 14-01
A16: Legend
B17: Complete | Q17: Anonymous | R17: Union | S17: Nuclear Safety and Quality | T17: Exit Interviews | U17: YES
B18: Information only | Q18: ATS | R18: Non-Union | S18: Retaliation | T18: Interviews | U18: NO
B19: Referral | Q19: Chemistry | R19: Contractor | S19: Industrial Safety | T19: Telephone | U19: N/A
B20: Upgraded to ECR | Q20: Construction Maintenance | S20: Security | T20: Mail
B21: Not finalized / open | Q21: ECP | S21: Human Resources | T21: Walk-In
A22: =AVERAGE(G5:G14) -> #DIV/0! | B22: Average time to complete (Days) | Q22: Electrical Maintenance | S22: Management Practices | T22: Condition Report Process
Q23: Engineering | S23: Training | T23: Web Site
Q24: Facilities Maintenance | S24: Technical (Non-Safety Related) | T24: Hotline
Q25: Fire Brigade | S25: Human Error | T25: Anonymous
Q26: Geosciences | S26: Intentional Wrongdoing | T26: Drop Box
Q27: I & C Maintenance | S27: EEOC | T27: Tailgate Meeting
Q28: Info Tech | S28: NRC Referred Allegations | T28: Presentation
Q29: LVBP | S29: SCWE | T29: Departmental Chat
Q30: Learning Services | S30: Chilling Effect | T30: Survey
Q31: Maintenance Support | S31: Environmental | T31: Management
Q32: Mechanical Maintenance | S32: Other | T32: NRC Referral
Q33: Operations | T33: DOL
Q34: Other
Q35: Outage Management
Q36: Planning
Q37: Procedures
Q38: Projects
Q39: Quality Verification
Q40: Rad Protection
Q41: Reg Services
Q42: Retired PG&E
Q43: Safety
Q44: Security
Q45: Site Services
... Q49: Work Control

Sheet 2014 ECR Status Log
A1: 2014 ECR Status Log
B3: ECR# | C3: NRC # | D3: Description | E3: Investigator | F3: Date rec'd | G3: Due date | H3: CAP | I3: HIRD? | J3: Reviewed with | K3: Cmplt: Y/N | L3: ECP Sub /Un | M3: verification Followup | N3: Extension? | O3: Final report sent | P3: Rec'd | Q3: Duration NRC <30 ECR < 60 | R3: Accepted by NRC | S3: NRC Sub Unsub | T3: Who Called | U3: DCPP NRR NRC HBPP DCPP INT NRC DCPP | V3: 2012 2013 | W3: Package Tracking Number:
B4: 14-01 | Q4: =DAYS360(F4,O4) -> #VALUE!
Q5: =DAYS360(F5,O5) -> 0
Q6: =DAYS360(F6,O6) -> 0
Q7: =DAYS360(F7,O7) -> 0
Q8: =DAYS360(F8,O8) -> 0
Q9: =DAYS360(F9,O9) -> 0
Q10: =DAYS360(F10,O10) -> 0
Q11: =DAYS360(F11,O11) -> 0
Q12: =DAYS360(F12,O12) -> 0
Q13: =DAYS360(F13,O13) -> 0
Q14: =+DAYS360(F14,O14) -> 0
C17: OPEN
C18: Sent
C19: Closed - NRC sub
C20: Closed - Sub (INT)
C21: Closed - NRC Unsub
C22: Closed - Unsub (INT)

Sheet 2014 DPO Log
A1: 2014 Differing Professional Opinion (DPO) Log
A2: DPO Number | B2: Position or Description | C2: Originator | D2: Department | E2: Date Received | F2: Notes | G2: Date Complete | H2: Station Director Briefing Y/N | I2: Time
B22: Complete
B23: Not finalized / open

Sheet 2014 SAPN Follow-up
A1: Notification Follow-up Status
A2: Contact/ECR # | C2: SAPN # (DN) | D2: Task | F2: SAPN # (DA) | G2: Task | I2: Description | K2: Follow-up (Y or N) | M2: Event Date | O2: Required by Date | Q2: Extensions (Y or N) | S2: Actions Complete | U2: Satisfactory (Y or N) | W2: Comments

Sheet EoY reports -n- graphs
C2: 2011 | D2: 2012 | E2: 2013 | F2: 2014 | G2: Represented | I2: Departments | J2: 2011 | K2: 2012 | L2: 2013 | M2: 2014
F3: =COUNTIF('2014 Contact Log'!R5:R14,"Union") -> 0 | G3: Union | I3: Planning | M3: =COUNTIF('2014 Contact Log'!Q5:Q14,"Planning") -> 0
F4: =COUNTIF('2014 Contact Log'!R5:R14,"Non-Union") -> 0 | G4: Non-Union | I4: Security | M4: =COUNTIF('2014 Contact Log'!Q5:Q14,"Security") -> 0
F5: =COUNTIF('2014 Contact Log'!R5:R14,"Contractor") -> 0 | G5: Contractor | I5: Operations | M5: =COUNTIF('2014 Contact Log'!Q5:Q14,"Operations") -> 0
I6: Quality Verification | M6: =COUNTIF('2014 Contact Log'!Q5:Q14,"Quality Verification") -> 0
C7: 2011 | D7: 2012 | E7: 2013 | F7: 2014 | G7: Classification of Concern | I7: Construction Maintenance | M7: =COUNTIF('2014 Contact Log'!Q5:Q14,"Construction Maintenance") -> 0
F8: =COUNTIF('2014 Contact Log'!S5:S14,"Human Resources") -> 0 | G8: Human Resources | I8: Engineering | M8: =COUNTIF('2014 Contact Log'!Q5:Q14,"Engineering") -> 0
F9: =COUNTIF('2014 Contact Log'!S5:S14,"Management Practices") -> 0 | G9: Management Practices | I9: Projects | M9: =COUNTIF('2014 Contact Log'!Q5:Q14,"Projects") -> 0
F10: =COUNTIF('2014 Contact Log'!S5:S14,"Industrial Safety") -> 0 | G10: Industrial Safety | I10: Safety | M10: =COUNTIF('2014 Contact Log'!Q5:Q14,"Safety") -> 0
F11: =COUNTIF('2014 Contact Log'!S5:S14,"Training") -> 0 | G11: Training | I11: Chemistry | M11: =COUNTIF('2014 Contact Log'!Q5:Q14,"Chemistry") -> 0
F12: =COUNTIF('2014 Contact Log'!S5:S14,"Nuclear Safety and Quality") -> 0 | G12: Nuclear Safety and Quality | I12: Facilities Maintenance | M12: =COUNTIF('2014 Contact Log'!Q5:Q14,"Facilities Maintenance") -> 0
F13: =COUNTIF('2014 Contact Log'!S5:S14,"Other") -> 0 | G13: Other | I13: Geoscience | M13: =COUNTIF('2014 Contact Log'!Q5:Q14,"Geoscience") -> 0
F14: =COUNTIF('2014 Contact Log'!S5:S14,"Technical Non Safety Related") -> 0 | G14: Technical Non Safety Related | I14: Mechanical Maintenance | M14: =COUNTIF('2014 Contact Log'!Q5:Q14,"Mechanical Maintenance") -> 0
F15: =COUNTIF('2014 Contact Log'!S5:S14,"Chilling Effect") -> 0 | G15: Chilling Effect | I15: Outage Management | M15: =COUNTIF('2014 Contact Log'!Q5:Q14,"Outage Management") -> 0
F16: =COUNTIF('2014 Contact Log'!S5:S14,"EEOC") -> 0 | G16: EEOC | I16: Work Control | M16: =COUNTIF('2014 Contact Log'!Q5:Q14,"Work Control") -> 0
F17: =COUNTIF('2014 Contact Log'!S5:S14,"Environmental") -> 0 | G17: Environmental | I17: Anonymous | M17: =COUNTIF('2014 Contact Log'!Q5:Q14,"Anonymous") -> 0
F18: =COUNTIF('2014 Contact Log'!S5:S14,"Human Error") -> 0 | G18: Human Error | I18: ATS | M18: =COUNTIF('2014 Contact Log'!Q5:Q14,"ATS") -> 0
F19: =COUNTIF('2014 Contact Log'!S5:S14,"Intentional Wrongdoing") -> 0 | G19: Intentional Wrongdoing | I19: Electrical Maintenance | M19: =COUNTIF('2014 Contact Log'!Q5:Q14,"Electrical Maintenance") -> 0
F20: =COUNTIF('2014 Contact Log'!S5:S14,"NRC Referred Allegations") -> 0 | G20: NRC Referred Allegations | I20: Fire Brigade | M20: =COUNTIF('2014 Contact Log'!Q5:Q14,"Fire Brigade") -> 0
F21: =COUNTIF('2014 Contact Log'!S5:S14,"Personnel Safety") -> 0 | G21: Personnel Safety | I21: I & C Maintenance | M21: =COUNTIF('2014 Contact Log'!Q5:Q14,"I & C Maintenance") -> 0
F22: =COUNTIF('2014 Contact Log'!S5:S14,"Retaliation") -> 0 | G22: Retaliation | I22: Info Tech | M22: =COUNTIF('2014 Contact Log'!Q5:Q14,"Info Tech") -> 0
F23: =COUNTIF('2014 Contact Log'!S5:S14,"SCWE") -> 0 | G23: SCWE | I23: LBVP | M23: =COUNTIF('2014 Contact Log'!Q5:Q14,"LBVP") -> 0
F24: =COUNTIF('2014 Contact Log'!S5:S14,"Security") -> 0 | G24: Security | I24: Learning Services | M24: =COUNTIF('2014 Contact Log'!Q5:Q14,"Learning Services") -> 0
C25: =SUM(C8:C24) -> 0 | D25: =SUM(D8:D24) -> 0 | E25: =SUM(E8:E24) -> 0 | F25: =SUM(F8:F24) -> 0 | I25: Maintenance Support | M25: =COUNTIF('2014 Contact Log'!Q5:Q14,"Maintenance Support") -> 0
D26: Start | E26: End | F26: Duration | G26: Unique items during year | I26: Other | M26: =COUNTIF('2014 Contact Log'!Q5:Q14,"Other") -> 0
F27: 0 | I27: Procedures | M27: =COUNTIF('2014 Contact Log'!Q5:Q14,"Procedures") -> 0
F28: 0 | I28: Rad Protection | M28: =COUNTIF('2014 Contact Log'!Q5:Q14,"Rad Protection") -> 0
F29: 0 | I29: Reg Services | M29: =COUNTIF('2014 Contact Log'!Q5:Q14,"Reg Services") -> 0
F30: 0 | I30: Retired PG&E | M30: =COUNTIF('2014 Contact Log'!Q5:Q14,"Retired PG&E") -> 0
F31: 0 | I31: Senior Leadership | M31: =COUNTIF('2014 Contact Log'!Q5:Q14,"Senior Leadership") -> 0
F32: 0 | I32: Site Services | M32: =COUNTIF('2014 Contact Log'!Q5:Q14,"Site Services") -> 0
F33: 0 | I33: Supplemental | M33: =COUNTIF('2014 Contact Log'!Q5:Q14,"Supplemental") -> 0
F34: 0 | I34: Supply Chain | M34: =COUNTIF('2014 Contact Log'!Q5:Q14,"Supply Chain") -> 0
F35: 0 | I35: T-Comm | M35: =COUNTIF('2014 Contact Log'!Q5:Q14,"T-Comm") -> 0
J36: =SUM(J3:J35) -> 0 | K36: =SUM(K3:K35) -> 0 | L36: =SUM(L3:L35) -> 0 | M36: =SUM(M3:M35) -> 0
F37: Manual entry from NRC Allegarion web page
B38: 2008 | C38: 2009 | D38: 2010 | E38: 2011 | F38: 2012 | G38: 2013 | H38: 2014 | I38: NRC Allegation data
H39: 0 | I39: Submitted to NRC
H40: 0 | I40: From on-site source
H41: 0 | I41: Discrimination Allegation
...

Sheet NRC allegations INT
A1: Site | B1: Total | F1: Times multiplier
A2: ARKANSAS 1 & 2 | D2: Median | E2: =MEDIAN(B2:B65) -> #NUM! | G2: Based on an NRC Office of Research study, the Agency Allegations Advisor adopted the use of the following criteria to consider the varying workforce size at different sites, for both reactor and materials facilities. And determined which sites warranted further SCWE evaluation:
A3: BEAVER VALLEY 1 & 2 | F3: 2.25 | G3: 1 – unit reactor sites (or any site with fewer than 800 persons) with an onsite allegation volume greater that 2.25 times the median
A4: BRAIDWOOD 1 & 2 | F4: 3 | G4: 2 - unit reactor sites (or any site with 800 to 1,100persons) with an onsite allegation volume greater that 3 times the median
A5: BROWNS FERRY 1, 2 & 3 | F5: 4.5 | G5: 3 - unit reactor sites (or any site with more than 1,100 persons) with an onsite allegation volume greater that 4.5 times the median
A6: BRUNSWICK 1 & 2 | G6: The staff recognizes, and takes into consideration when applying the above criteria, that during times of significant site activity, the site population may increase substantially
A7: BYRON 1 & 2
A8: CALLAWAY
A9: CALVERT CLIFFS 1 & 2
A10: CATAWBA 1 & 2
A11: CLINTON
A12: COLUMBIA PLANT
A13: COMANCHE PEAK 1 & 2
A14: COOK 1 & 2
A15: COOPER
A16: CRYSTAL RIVER
A17: DAVIS-BESSE
A18: DIABLO CANYON 1 & 2
... A65: WOLF CREEK
B67: =SUM(B2:B66) -> 0
